BEGIN:VCALENDAR
VERSION:2.0
PRODID:-//hacksw/handcal//NONSGML v1.0//EN
CALSCALE:GREGORIAN
BEGIN:VEVENT
DTEND:20250712T200000Z
UID:69e765f398347
DTSTAMP:20260421T115635Z
SUMMARY:CLOSE TO POLISH HEART
DESCRIPTION:https://emberlight.org/event/close-to-polish-heart/
LOCATION:Miners Memorial Heritage Park, 771 E. Ayer St., Ironwood, MI 49938
URL;VALUE=URI:https://emberlight.org/event/close-to-polish-heart/
DTSTART:20250712T180000Z
END:VEVENT
END:VCALENDAR
