BEGIN:VCALENDAR
VERSION:2.0
PRODID:-//hacksw/handcal//NONSGML v1.0//EN
CALSCALE:GREGORIAN
BEGIN:VEVENT
DTEND:20250726T200000Z
UID:69e76150de8e7
DTSTAMP:20260421T113648Z
SUMMARY:SHAKESPEAREAN SALAD
DESCRIPTION:https://emberlight.org/event/shakespearean-salad/
LOCATION:Miners Memorial Heritage Park, 771 E. Ayer St., Ironwood, MI 49938
URL;VALUE=URI:https://emberlight.org/event/shakespearean-salad/
DTSTART:20250726T180000Z
END:VEVENT
END:VCALENDAR
