BEGIN:VCALENDAR
VERSION:2.0
PRODID:-//hacksw/handcal//NONSGML v1.0//EN
CALSCALE:GREGORIAN
BEGIN:VEVENT
DTEND:20250713T020000Z
UID:69e763e6b36fe
DTSTAMP:20260421T114750Z
SUMMARY:FANTASIA 2000
DESCRIPTION:https://emberlight.org/event/fantasia-2000/
LOCATION:Theatre North, 825 N Lake St, Ironwood, MI 49938
URL;VALUE=URI:https://emberlight.org/event/fantasia-2000/
DTSTART:20250713T000000Z
END:VEVENT
END:VCALENDAR
