BEGIN:VCALENDAR
VERSION:2.0
PRODID:-//hacksw/handcal//NONSGML v1.0//EN
CALSCALE:GREGORIAN
BEGIN:VEVENT
DTEND:20250727T020000Z
UID:69e761a0936b8
DTSTAMP:20260421T113808Z
SUMMARY:BEST WORST THING THAT EVER COULD HAVE HAPPENED
DESCRIPTION:https://emberlight.org/event/best-worst-thing-that-ever-could-have-happened/
LOCATION:Theatre North, 825 N Lake St, Ironwood, MI 49938
URL;VALUE=URI:https://emberlight.org/event/best-worst-thing-that-ever-could-have-happened/
DTSTART:20250727T000000Z
END:VEVENT
END:VCALENDAR
