BEGIN:VCALENDAR
VERSION:2.0
PRODID:-//hacksw/handcal//NONSGML v1.0//EN
CALSCALE:GREGORIAN
BEGIN:VEVENT
DTEND:20250817T020000Z
UID:69e4df4228d07
DTSTAMP:20260419T135722Z
SUMMARY:EIFF: AMERICAN THEATER
DESCRIPTION:https://emberlight.org/event/american-theater/
LOCATION:THE EMBER CLUB at Theatre North, 825 N Lake St., Ironwood, MI 49938
URL;VALUE=URI:https://emberlight.org/event/american-theater/
DTSTART:20250817T000000Z
END:VEVENT
END:VCALENDAR
