BEGIN:VCALENDAR
VERSION:2.0
PRODID:-//hacksw/handcal//NONSGML v1.0//EN
CALSCALE:GREGORIAN
BEGIN:VEVENT
DTEND:20250821T020000Z
UID:69e74590949aa
DTSTAMP:20260421T093824Z
SUMMARY:EIFF: PAPER MARRIAGE
DESCRIPTION:https://emberlight.org/event/paper-marriage/
LOCATION:THE EMBER CLUB at Theatre North, 825 N Lake St., Ironwood, MI 49938
URL;VALUE=URI:https://emberlight.org/event/paper-marriage/
DTSTART:20250821T000000Z
END:VEVENT
END:VCALENDAR
