BEGIN:VCALENDAR
VERSION:2.0
PRODID:-//hacksw/handcal//NONSGML v1.0//EN
CALSCALE:GREGORIAN
BEGIN:VEVENT
DTEND:20250822T020000Z
UID:69ebadf986007
DTSTAMP:20260424T175257Z
SUMMARY:RHAPSODY IN BLUE: From New York to Hollywood
DESCRIPTION:https://emberlight.org/event/rhapsody-in-blue/
LOCATION:Hurley Auditorium, 5503 W. Range View Drive, Hurley, WI 54534
URL;VALUE=URI:https://emberlight.org/event/rhapsody-in-blue/
DTSTART:20250822T000000Z
END:VEVENT
END:VCALENDAR
