BEGIN:VCALENDAR
VERSION:2.0
PRODID:-//hacksw/handcal//NONSGML v1.0//EN
CALSCALE:GREGORIAN
BEGIN:VEVENT
DTEND:20250629T020000Z
UID:69ec9f4ed7fbe
DTSTAMP:20260425T110238Z
SUMMARY:OPENING NIGHT PARTY 2025
DESCRIPTION:https://emberlight.org/event/opening-night-party-2025/
LOCATION:Theatre North, 825 N Lake St, Ironwood, MI 49938
URL;VALUE=URI:https://emberlight.org/event/opening-night-party-2025/
DTSTART:20250628T233000Z
END:VEVENT
END:VCALENDAR
